BEGIN:VCALENDAR
VERSION:2.0
PRODID:-//hacksw/handcal//NONSGML v1.0//EN
BEGIN:VEVENT
SUMMARY:Demi-finales interclubs D7
UID:b6eede58-7535-474d-aaae-a11400fa55ea
DTSTART:20260522T180000Z
DTEND:20260522T220000Z
LOCATION:Localisation   
CATEGORIES:Sportif
STATUS:
DESCRIPTION:<p>Demi-finale a domicile ! </p>
 
 <p>ARB -
 Martigues </p>
URL;VALUE=URI:https://www.auroqbad.fr/evenements/2026/05/22/demi-finales-interclubs-d7-2443552
END:VEVENT
END:VCALENDAR
