BEGIN:VCALENDAR
VERSION:2.0
PRODID:-//hacksw/handcal//NONSGML v1.0//EN
BEGIN:VEVENT
SUMMARY:Demi-finales interclubs D1 et D6
UID:01c7d7fe-c019-4c74-9082-4362b06da250
DTSTART:20260520T180000Z
DTEND:20260520T220000Z
LOCATION:Localisation   
CATEGORIES:Sportif
STATUS:
DESCRIPTION:<p>Demi-finales interclubs ! </p>
 
 <p>D1 : SMUC -
 ARB </p>
 
 <p>D6 : Istres - ARB </p>
URL;VALUE=URI:https://www.auroqbad.fr/evenements/2026/05/20/demi-finales-interclubs-d1-et-d6-2443550
END:VEVENT
END:VCALENDAR
